BEGIN:VCALENDAR
VERSION:2.0
PRODID:-//Church of the Transfiguration - ECPv6.15.20//NONSGML v1.0//EN
CALSCALE:GREGORIAN
METHOD:PUBLISH
X-WR-CALNAME:Church of the Transfiguration
X-ORIGINAL-URL:https://www.transfiguration.net
X-WR-CALDESC:Events for Church of the Transfiguration
REFRESH-INTERVAL;VALUE=DURATION:PT1H
X-Robots-Tag:noindex
X-PUBLISHED-TTL:PT1H
BEGIN:VTIMEZONE
TZID:America/Chicago
BEGIN:DAYLIGHT
TZOFFSETFROM:-0600
TZOFFSETTO:-0500
TZNAME:CDT
DTSTART:20240310T080000
END:DAYLIGHT
BEGIN:STANDARD
TZOFFSETFROM:-0500
TZOFFSETTO:-0600
TZNAME:CST
DTSTART:20241103T070000
END:STANDARD
BEGIN:DAYLIGHT
TZOFFSETFROM:-0600
TZOFFSETTO:-0500
TZNAME:CDT
DTSTART:20250309T080000
END:DAYLIGHT
BEGIN:STANDARD
TZOFFSETFROM:-0500
TZOFFSETTO:-0600
TZNAME:CST
DTSTART:20251102T070000
END:STANDARD
BEGIN:DAYLIGHT
TZOFFSETFROM:-0600
TZOFFSETTO:-0500
TZNAME:CDT
DTSTART:20260308T080000
END:DAYLIGHT
BEGIN:STANDARD
TZOFFSETFROM:-0500
TZOFFSETTO:-0600
TZNAME:CST
DTSTART:20261101T070000
END:STANDARD
BEGIN:DAYLIGHT
TZOFFSETFROM:-0600
TZOFFSETTO:-0500
TZNAME:CDT
DTSTART:20270314T080000
END:DAYLIGHT
BEGIN:STANDARD
TZOFFSETFROM:-0500
TZOFFSETTO:-0600
TZNAME:CST
DTSTART:20271107T070000
END:STANDARD
END:VTIMEZONE
BEGIN:VEVENT
DTSTART;TZID=America/Chicago:20260301T190000
DTEND;TZID=America/Chicago:20260301T203000
DTSTAMP:20260425T180118
CREATED:20260201T061126Z
LAST-MODIFIED:20250920T161338Z
UID:10000041-1772391600-1772397000@www.transfiguration.net
SUMMARY:Jonathan Gregoire Organ Recital
DESCRIPTION:Transfi guration’s Artist-in-Resident Jonathan Gregoire explores the rich tradition and evolving voice of the German organ sonata in this compelling Lenten program. From the intricate counterpoint of Bach’s trio Sonata No. 4 to the expressive pathos of C.P.E. Bach’s Sonata in A minor\, the journey continues through Mendelssohn’s Sonata No. 3\, built on the Aus tiefer Not (Out of the Depths) chorale – a fi tting refl ection for the season of Lent. Hindemith’s Sonata No. 3 based on old German folksongs and Ritter’s dramatic Sonata No. 3 will round out the program. Our stunning Richards\, Fowkes & Co. organ will be on full display\, revealing its expressive range and color through these fi ve sonatas spanning three centuries.
URL:https://www.transfiguration.net/event/jonathan-gregoire-organ-recital/
LOCATION:The Church Nave\, 14115 Hillcrest Road\, Dallas\, TX\, 75254\, United States
CATEGORIES:HomePage,Transfigured Nights
ATTACH;FMTTYPE=image/jpeg:https://www.transfiguration.net/wp-content/uploads/2025/09/Transfigured-Nights-Thumbnail.jpg
END:VEVENT
BEGIN:VEVENT
DTSTART;TZID=America/Chicago:20260118T190000
DTEND;TZID=America/Chicago:20260118T200000
DTSTAMP:20260425T180118
CREATED:20251229T061434Z
LAST-MODIFIED:20250920T161653Z
UID:10000042-1768762800-1768766400@www.transfiguration.net
SUMMARY:Music for Wind Quintet Concert
DESCRIPTION:Back by popular demand\, Willa Henigman\, oboe\, and her friends Helen Blackburn\, fl ute\, Phil Paglialonga\, clarinet\, Susan Frazier\, horn\, and Tom Fleming\, bassoon\, present a delightful evening of chamber music in the church. Last year\, due to the renovation project in the nave\, the wind ensemble played in the Performance Hall. This year’s concert will be an opportunity to hear how the nave’s acoustic improvements allow the winds to soar throughout the space.
URL:https://www.transfiguration.net/event/music-for-wind-quintet-concert/
LOCATION:The Church Nave\, 14115 Hillcrest Road\, Dallas\, TX\, 75254\, United States
CATEGORIES:HomePage,Transfigured Nights
ATTACH;FMTTYPE=image/jpeg:https://www.transfiguration.net/wp-content/uploads/2025/09/Transfigured-Nights-Thumbnail.jpg
END:VEVENT
BEGIN:VEVENT
DTSTART;TZID=America/Chicago:20251228T100000
DTEND;TZID=America/Chicago:20251228T110000
DTSTAMP:20260425T180118
CREATED:20251219T213026Z
LAST-MODIFIED:20251219T211049Z
UID:10000063-1766916000-1766919600@www.transfiguration.net
SUMMARY:Christmas Lessons & Carols
DESCRIPTION:Join us for a combined Sunday Service at 10:00am. We continue celebrating the Christmas season with traditional Lessons & Carols and the Holy Eucharist.
URL:https://www.transfiguration.net/event/christmas-lessons-carols/
LOCATION:The Church Nave\, 14115 Hillcrest Road\, Dallas\, TX\, 75254\, United States
CATEGORIES:HomePage
ATTACH;FMTTYPE=image/jpeg:https://www.transfiguration.net/wp-content/uploads/2025/11/Transfigured-Nights-Choir.jpg
END:VEVENT
BEGIN:VEVENT
DTSTART;TZID=America/Chicago:20251227T173000
DTEND;TZID=America/Chicago:20251227T183000
DTSTAMP:20260425T180118
CREATED:20251219T213030Z
LAST-MODIFIED:20251219T211010Z
UID:10000038-1766856600-1766860200@www.transfiguration.net
SUMMARY:Christmas Lessons & Carols at The Table
DESCRIPTION:Join us for  The Table\, our Saturday service at 5:30pm. We continue celebrating the Christmas season with traditional Lessons & Carols and the Holy Eucharist.
URL:https://www.transfiguration.net/event/advent-lessons-carols/
LOCATION:The Church Nave\, 14115 Hillcrest Road\, Dallas\, TX\, 75254\, United States
CATEGORIES:HomePage
ATTACH;FMTTYPE=image/jpeg:https://www.transfiguration.net/wp-content/uploads/2025/11/Transfigured-Nights-Choir.jpg
END:VEVENT
END:VCALENDAR