BEGIN:VCALENDAR
VERSION:2.0
PRODID:-//Church of the Transfiguration - ECPv6.15.20//NONSGML v1.0//EN
CALSCALE:GREGORIAN
METHOD:PUBLISH
X-ORIGINAL-URL:https://www.transfiguration.net
X-WR-CALDESC:Events for Church of the Transfiguration
REFRESH-INTERVAL;VALUE=DURATION:PT1H
X-Robots-Tag:noindex
X-PUBLISHED-TTL:PT1H
BEGIN:VTIMEZONE
TZID:America/Chicago
BEGIN:DAYLIGHT
TZOFFSETFROM:-0600
TZOFFSETTO:-0500
TZNAME:CDT
DTSTART:20240310T080000
END:DAYLIGHT
BEGIN:STANDARD
TZOFFSETFROM:-0500
TZOFFSETTO:-0600
TZNAME:CST
DTSTART:20241103T070000
END:STANDARD
BEGIN:DAYLIGHT
TZOFFSETFROM:-0600
TZOFFSETTO:-0500
TZNAME:CDT
DTSTART:20250309T080000
END:DAYLIGHT
BEGIN:STANDARD
TZOFFSETFROM:-0500
TZOFFSETTO:-0600
TZNAME:CST
DTSTART:20251102T070000
END:STANDARD
BEGIN:DAYLIGHT
TZOFFSETFROM:-0600
TZOFFSETTO:-0500
TZNAME:CDT
DTSTART:20260308T080000
END:DAYLIGHT
BEGIN:STANDARD
TZOFFSETFROM:-0500
TZOFFSETTO:-0600
TZNAME:CST
DTSTART:20261101T070000
END:STANDARD
BEGIN:DAYLIGHT
TZOFFSETFROM:-0600
TZOFFSETTO:-0500
TZNAME:CDT
DTSTART:20270314T080000
END:DAYLIGHT
BEGIN:STANDARD
TZOFFSETFROM:-0500
TZOFFSETTO:-0600
TZNAME:CST
DTSTART:20271107T070000
END:STANDARD
END:VTIMEZONE
BEGIN:VEVENT
DTSTART;TZID=America/Chicago:20260414T164500
DTEND;TZID=America/Chicago:20260414T183000
DTSTAMP:20260425T074259
CREATED:20260111T045353Z
LAST-MODIFIED:20260320T024244Z
UID:10000075-1776185100-1776191400@www.transfiguration.net
SUMMARY:Serve Dinner at St. Jude Center
DESCRIPTION:Join us as we feed folks at St Jude Center\, located at 8102 Lyndon B Johnson Fwy (southeast corner of Coit Rd. and 635).  We need folks who can assist us for a 4:45pm arrival time.  Food service time is from 5:00pm to 6:15pm. \nWe serve dinner at St. Jude Center each month. We would love to have you join us. \nREGISTER TO PARTICIPATE HERE
URL:https://www.transfiguration.net/event/serve-dinner-at-st-jude-center-2/
LOCATION:St. Jude Center\, 8102 Lyndon B Johnson Fwy\, Dallas\, TX\, United States
CATEGORIES:HomePage,outreach
ATTACH;FMTTYPE=image/jpeg:https://www.transfiguration.net/wp-content/uploads/2025/10/2025_10-26_events_blank4.jpg
END:VEVENT
BEGIN:VEVENT
DTSTART;TZID=America/Chicago:20251111T164500
DTEND;TZID=America/Chicago:20251111T183000
DTSTAMP:20260425T074259
CREATED:20251024T183030Z
LAST-MODIFIED:20251024T201254Z
UID:10000048-1762879500-1762885800@www.transfiguration.net
SUMMARY:Serve Dinner at St. Jude Center
DESCRIPTION:Join us as we feed folks at St Jude Center\, located at 8102 Lyndon B Johnson Fwy (southeast corner of Coit Rd. and 635).  We need folks who can assist us for a 4:45pm arrival time.  Food service time is from 5:00pm to 6:15pm. \nThis month we need everyone who signs up to serve dinner with us\, not just provide food items. Deadline to sign-up is November 9. \nREGISTER TO PARTICIPATE HERE
URL:https://www.transfiguration.net/event/serve-dinner-at-st-jude-center/
LOCATION:St. Jude Center\, 8102 Lyndon B Johnson Fwy\, Dallas\, TX\, United States
CATEGORIES:HomePage
ATTACH;FMTTYPE=image/jpeg:https://www.transfiguration.net/wp-content/uploads/2025/10/2025_10-26_events_blank4.jpg
END:VEVENT
END:VCALENDAR